BEGIN:VCALENDAR
VERSION:2.0
PRODID:icalendar-ruby
CALSCALE:GREGORIAN
METHOD:PUBLISH
BEGIN:VEVENT
DTSTAMP:20260422T162551Z
UID:162-106186@salc.church
DTSTART:20260524T160000Z
DTEND:20260531T170000Z
CLASS:PUBLIC
CREATED:20260421T115701
DESCRIPTION:70 years of gathering as a worshipping community\, serving our 
 neighbors\, baptizing\, marrying\, memorializing\, mission trips\, fellows
 hip times.  Join us on Sunday\, May 24th at 9:00 AM for coffee and conver
 sation - photos and memories! Sunday\, May 31 the party continues with cak
 e!! 
LAST-MODIFIED:20260421T115701
LOCATION:Saint Andrew's Fellowship Hall
SUMMARY:70th Anniversary Celebrations!
URL;VALUE=URI:https://salc.church/events/70th-anniversary-celebrations/2026
 -05-24
ATTACH;FILENAME=70-1.png;FMTTYPE=image/png:https://dq5pwpg1q8ru0.cloudfront
 .net/2026/04/21/18/56/41/b2ebeccc-7e19-4e81-b318-f170ab2c9a32/70-1.png
END:VEVENT
END:VCALENDAR
