BEGIN:VCALENDAR
VERSION:2.0
PRODID:icalendar-ruby
CALSCALE:GREGORIAN
METHOD:PUBLISH
BEGIN:VEVENT
DTSTAMP:20260424T004923Z
UID:165-106191@salc.church
DTSTART:20260518T003000Z
DTEND:20260518T033000Z
CLASS:PUBLIC
CREATED:20260423T105630
DESCRIPTION:6th -12th graders - bring a sncak and a friend and come for an 
 evening of fun\, laughs and friendly competition! \nUse the QR code on th
 e graphic to sign up by May 13th (so there are plenty of socks and snacks 
 \;) ...\nQuestions? Contact Doug (doug@salc.church)
LAST-MODIFIED:20260423T105630
LOCATION:Saint Andrew's Lutheran Church
SUMMARY:Sock Samuai
URL;VALUE=URI:https://salc.church/events/sock-samuai/2026-05-17
ATTACH;FILENAME=Social-Media-Posts-for-CYF-2025-2026.png;FMTTYPE=image/png:
 https://dq5pwpg1q8ru0.cloudfront.net/2026/04/23/17/56/29/cf947434-55eb-495
 d-be78-ac811db8b75d/Social-Media-Posts-for-CYF-2025-2026.png
END:VEVENT
END:VCALENDAR
